BEGIN:VCALENDAR
VERSION:2.0
PRODID:-//Mensch in Bewegung - ECPv6.15.20//NONSGML v1.0//EN
CALSCALE:GREGORIAN
METHOD:PUBLISH
X-ORIGINAL-URL:https://mensch-in-bewegung.info
X-WR-CALDESC:Veranstaltungen für Mensch in Bewegung
REFRESH-INTERVAL;VALUE=DURATION:PT1H
X-Robots-Tag:noindex
X-PUBLISHED-TTL:PT1H
BEGIN:VTIMEZONE
TZID:Europe/Berlin
BEGIN:DAYLIGHT
TZOFFSETFROM:+0100
TZOFFSETTO:+0200
TZNAME:CEST
DTSTART:20220327T010000
END:DAYLIGHT
BEGIN:STANDARD
TZOFFSETFROM:+0200
TZOFFSETTO:+0100
TZNAME:CET
DTSTART:20221030T010000
END:STANDARD
BEGIN:DAYLIGHT
TZOFFSETFROM:+0100
TZOFFSETTO:+0200
TZNAME:CEST
DTSTART:20230326T010000
END:DAYLIGHT
BEGIN:STANDARD
TZOFFSETFROM:+0200
TZOFFSETTO:+0100
TZNAME:CET
DTSTART:20231029T010000
END:STANDARD
BEGIN:DAYLIGHT
TZOFFSETFROM:+0100
TZOFFSETTO:+0200
TZNAME:CEST
DTSTART:20240331T010000
END:DAYLIGHT
BEGIN:STANDARD
TZOFFSETFROM:+0200
TZOFFSETTO:+0100
TZNAME:CET
DTSTART:20241027T010000
END:STANDARD
END:VTIMEZONE
BEGIN:VEVENT
DTSTART;TZID=Europe/Berlin:20231220T200000
DTEND;TZID=Europe/Berlin:20231220T220000
DTSTAMP:20260422T162930
CREATED:20231004T090749Z
LAST-MODIFIED:20231004T091136Z
UID:10004552-1703102400-1703109600@mensch-in-bewegung.info
SUMMARY:Wissenschaftskino Ingolstadt: "Schwarzstrom"
DESCRIPTION:mit Marcus Siebler (Buch\, Produktion & Regie)\, Prof. Dr. Uwe Holzhammer (TH Ingolstadt) und Prof. Dr. Simone Birkel (KU Eichstätt-Ingolstadt) im Gespräch mit Dr. Stefan Schweiger. \nDie Energiekrise als Ressourcenkrise und gleichermaßen die Klimakrise als Emissionskrise lassen Utopien von klimagerechten und energieautonomen Regionen\, Städten und Gemeinden gedeihen. Der Film „Schwarzstrom“ des Regisseurs Marcus Siebler erzählt provokant von einer dystopischen Welt\, in der die Exekutive streng über den Stromverbrauch des Einzelnen wacht. Der Kurzfilm bildet den Impuls für eine spannende Diskussion zwischen dem Regisseur Marcus Siebler\, dem Professor für Energiesystemtechnik an der Technischen Hochschule\, Dr.-Ing. Uwe Holzhammer\, und der Religionspädagogin Prof´in. Dr.´in Simone Birkel (Katholische Universität Eichstätt-Ingolstadt). Die Diskutanten stellen sich die Frage\, wie eine realistische ressourcensparende und treibhausgasarme Zukunft jenseits von demotivierenden Dystopien und enttäuschungsanfälligen Utopien aussehen könnte. Moderiert wird die Veranstaltung von Dr. Stefan Schweiger (Technische Hochschule Ingolstadt)\, der das Publikum zum Mitdiskutieren einlädt. \nEintritt: kostenfrei
URL:https://mensch-in-bewegung.info/event/wissenschaftskino-ingolstadt-schwarzstrom/
LOCATION:Audi-Programmkino\, Audi Forum\, Ingolstadt\, 85057\, Deutschland
CATEGORIES:Für Wissenschaft begeistern,wissen.schafft.wir.,Wissenschaftskino
ATTACH;FMTTYPE=image/png:https://mensch-in-bewegung.info/wp-content/uploads/2023/10/Design-ohne-Titel-2.png
END:VEVENT
BEGIN:VEVENT
DTSTART;TZID=Europe/Berlin:20231213T200000
DTEND;TZID=Europe/Berlin:20231213T220000
DTSTAMP:20260422T162930
CREATED:20231002T092843Z
LAST-MODIFIED:20231205T104130Z
UID:10004548-1702497600-1702504800@mensch-in-bewegung.info
SUMMARY:Wissenschaftskino Ingolstadt: "Picture a scientist"
DESCRIPTION:mit Prof. Patrizia Heinl (TH Ingolstadt)\, Prof. Dr. Nadja Ray (Frauenbeauftragte der Mathematisch-Geographische Fakultät\, KU Eichstätt-Ingolstadt) und Prof. Dr. Michaela Regler (Frauenbeauftragte der TH Ingolstadt) im Gespräch mit Dr. Marion Kühn. \nIn PICTURE A SCIENTIST nehmen sich eine Biologin\, eine Chemikerin und eine Geologin dieser Fragen an und führen das Publikum auf eine Reise durch die Erfahrungen ihrer akademischen Laufbahn – als Frauen der Wissenschaft. \nIn ihren Karrieren sind sie von Beginn an Diskriminierungen ausgesetzt. Wissenschaftlerinnen müssen einen stetigen Kampf um Anerkennung\, Respekt und Gleichberechtigung führen. \nDer Dokumentarfilm gibt Hoffnung\, denn er erzählt die Geschichte von Stärke und Solidarität\, von mutigen Wissenschaftlerinnen\, die sich gegen Ungerechtigkeit stemmen und einen weltweiten Diskurs des Wandels und der Gleichberechtigung ins Rollen bringen. In futuristischen Laboratorien und auf spektakulären Schauplätzen der Feldarbeit macht er deutlich\, von welch unschätzbarem Wert die Arbeit von Forscherinnen ist und wie sich die Wissenschaft durch systematische und strukturelle Umwälzungen zum Besseren bewegen lässt – für eine Welt\, in der Mädchen ihren Traum vom Forschen verwirklichen können\, für eine Welt voller Biologinnen\, Astronautinnen\, Chemikerinnen und Mathematikerinnen. \nUSA 2021 – R: Ian Cheney\, Sharon Shattuck – FSK: 12 – L: 97 min. – OmU: Originalfassung mit deutschen Untertiteln \n© Mindjazz \nKartenreservierung: https://filmkunst.net/shop/
URL:https://mensch-in-bewegung.info/event/wissenschaftskino-ingolstadt-picture-a-scientist/
LOCATION:Audi-Programmkino\, Audi Forum\, Ingolstadt\, 85057\, Deutschland
CATEGORIES:Für Wissenschaft begeistern,wissen.schafft.wir.,Wissenschaftskino
ATTACH;FMTTYPE=image/png:https://mensch-in-bewegung.info/wp-content/uploads/2023/10/wissen.schafft.wir_.-MiB-Webseite-KINO-1.png
END:VEVENT
BEGIN:VEVENT
DTSTART;TZID=Europe/Berlin:20231206T200000
DTEND;TZID=Europe/Berlin:20231206T220000
DTSTAMP:20260422T162930
CREATED:20231002T083936Z
LAST-MODIFIED:20231010T135601Z
UID:10004545-1701892800-1701900000@mensch-in-bewegung.info
SUMMARY:Wissenschaftskino Ingolstadt: "Schulen dieser Welt"
DESCRIPTION:mit Christiane Hoth de Olano (Projekt UNISERVITATE\, KU Eichstätt-Ingolstadt) & Marco Hermann (KU Eichstätt-Ingolstadt) im Gespräch mit Dr. Ulrike Brok (KU Eichstätt-Ingolstadt). \n„Dieser Film ist eine Liebeserklärung an alle Lehrerinnen und Lehrer„ beschreibt die Erzählstimme Dennenesch Zoudé das Anliegen des Films.\nSCHULEN DIESER WELT erzählt die Geschichte von Svetlana\, Sandrine und Taslima. Die drei Lehrerinnen unterrichten Kinder und Jugendliche an Orten\, die für “normalen” Unterricht kaum zugänglich sind – in einem Nomadenzelt unter der Schneedecke Sibiriens\, in einer Hütte im Buschland Burkina Fasos und auf einem Schulboot in Bangladesch. Dabei teilen sie ein gemeinsames Ziel: ihren SchülerInnen durch Bildung den Weg in eine bessere Zukunft zu ermöglichen.\nSie machen aus ihrer Mission ein wahres Abenteuer und gehen dabei weit über das bloße Unterrichten hinaus: Mit Entschlossenheit und Freude bringen sie Kindern das Lesen und Schreiben bei\, klären auf\, kämpfen für Chancengleichheit und bewahren uralte Kulturen. \n© X Verleih \nFR 2022 – R: Emilie Thérond – FSK: 0 – L: 82 min.\nDer Film „Schulen dieser Welt„ findet im Rahmen von wissen.schafft.wir. Kino statt.
URL:https://mensch-in-bewegung.info/event/wissenschaftskino-schulen-dieser-welt-2/
LOCATION:Audi-Programmkino\, Audi Forum\, Ingolstadt\, 85057\, Deutschland
CATEGORIES:Für Wissenschaft begeistern,wissen.schafft.wir.,Wissenschaftskino
ATTACH;FMTTYPE=image/png:https://mensch-in-bewegung.info/wp-content/uploads/2023/10/wissen.schafft.wir_.-MiB-Webseite-KINO-.png
END:VEVENT
BEGIN:VEVENT
DTSTART;TZID=Europe/Berlin:20231129T200000
DTEND;TZID=Europe/Berlin:20231129T220000
DTSTAMP:20260422T162930
CREATED:20231002T093615Z
LAST-MODIFIED:20231010T135032Z
UID:10004549-1701288000-1701295200@mensch-in-bewegung.info
SUMMARY:Wissenschaftskino Ingolstadt: "Wer wir waren"
DESCRIPTION:Prof. Dr. Joost van Loon (KU Eichstätt-Ingolstadt) und Prof. Dr. Stefanie Wrobel (TH Ingolstadt) im Gespräch mit Dr. Ulrike Brok (KU Eichstätt-Ingolstadt). \nWer wir waren ist ein Dokumentarfilm von Marc Bauder. Darin äußern sich sechs Wissenschaftler*innen verschiedenster Fachrichtungen zum Fortbestand der Menschheit und des Planeten Erde und unserer Gesellschaft in der Zukunft. \nDie Wissenschaftler*innen beziehen im Film Stellung zu den wirklich großen Problemen der Menschheit\, allen voran der Frage nach dem Fortbestand unseres Planeten. Der Astronaut Alexander Gerst liefert atemberaubende Bilder der Erde vom Weltraum aus\, die Meeresbiologin Sylvia Earle Aufnahmen von den äußersten Punkten unserer Biosphäre. Der Wirtschaftswissenschaftler Dennis Snower und der buddhistische Mönch Matthieu Ricard verbinden Aktivismus mit wissenschaftlicher und spiritueller Weltergründung. Der Sozialwissenschaftler Felwine Sarr und die Roboterethikerin und Feministin Janina Loh begeben sich in völlig andere Bereiche\, um nach Antworten auf die wichtigsten Fragen zu suchen. \nFR 2021 – R: Marc Bauder – FSK 0 – 113 Min.
URL:https://mensch-in-bewegung.info/event/wissenschaftskino-ingolstadt-wer-wir-waren/
LOCATION:Audi-Programmkino\, Audi Forum\, Ingolstadt\, 85057\, Deutschland
CATEGORIES:Für Wissenschaft begeistern,wissen.schafft.wir.,Wissenschaftskino
ATTACH;FMTTYPE=image/png:https://mensch-in-bewegung.info/wp-content/uploads/2023/10/Design-ohne-Titel-1.png
END:VEVENT
BEGIN:VEVENT
DTSTART;TZID=Europe/Berlin:20231128T180000
DTEND;TZID=Europe/Berlin:20231128T200000
DTSTAMP:20260422T162930
CREATED:20231023T110257Z
LAST-MODIFIED:20240221T083321Z
UID:10004556-1701194400-1701201600@mensch-in-bewegung.info
SUMMARY:wissen.schafft.wir. DIALOG: "Wohlstand in Gefahr? Über soziale Ungleichheit und Polarisierung in Ingolstadt und Region"
DESCRIPTION:Offene Diskussionsrunde mit Expert*innen aus KU\, Akteuren aus Gesellschaft\, Politik\, Kultur oder Wirtschaft\nwissen.schafft.wir. DIALOG: „Wohlstand in Gefahr? Über soziale Ungleichheit und Polarisierung in Ingolstadt und Region„ \nDie Weltbevölkerung wird bis 2050 9\,7 Milliarden erreichen\, mit einem raschen Wachstum vor allem in Ländern des globalen Südens und stagnierenden Einwohnerzahlen in den meisten Industrieländern. Wenngleich die absolute Zahl der Menschen\, die in extremer Armut leben\, rückläufig ist\, wird die Kluft zwischen Arm und Reich auch hierzulande immer größer. Zunehmende soziale Ungleichheiten sowie Polarisierungs- und Radikalisierungstendenzen stellen unsere Gesellschaft vor große Herausforderungen. Die Diskussionsrunde beschäftigt sich mit der Frage\, wie können wir Frieden und soziale Gerechtigkeit in unserer Gesellschaft stärken und eine lebenswerte Zukunft gemeinsam gestalten? \n  \nEs diskutieren: \nIsfried Fischer (Referent für Soziales\, Jugend und Gesundheit der Stadt Ingolstadt)\, \nChristian De Lapuente (Organisationssekretär\, DGB Ingolstadt)\, \nGabriele Pulm-Muhr (Caritas-Zentrum Pfaffenhofen\, Fachdienst Flucht und Migration) \nJulia Weymeirsch (Wissenschaftliche Mitarbeiterin am Lehrstuhl für Soziologie und empirische Sozialforschung\, KU Eichstätt-Ingolstadt) \nModeration: Dr. Ulrike Brok
URL:https://mensch-in-bewegung.info/event/wissen-schafft-wir-dialog-wohlstand-in-gefahr-ueber-soziale-ungleichheit-und-polarisierung-in-ingolstadt-und-region/
LOCATION:Wissenschaftsforum am Zukunftscampus (Georgianum Ingolstadt)\, Hohe-Schul-Straße 5 (Eingang Goldknopfgasse)\, Ingolstadt\, Bayern\, 85049\, Deutschland
CATEGORIES:Für Wissenschaft begeistern,Mensch in Bewegung,wissen.schafft.wir.
ATTACH;FMTTYPE=image/jpeg:https://mensch-in-bewegung.info/wp-content/uploads/2023/10/wissen.schafft.wir_.-DIALOG_MiB-Webseite-Hochformat.jpg
END:VEVENT
BEGIN:VEVENT
DTSTART;TZID=Europe/Berlin:20231115T190000
DTEND;TZID=Europe/Berlin:20231115T210000
DTSTAMP:20260422T162930
CREATED:20231002T085621Z
LAST-MODIFIED:20231023T122057Z
UID:10004546-1700074800-1700082000@mensch-in-bewegung.info
SUMMARY:Wissenschaftskino Eichstätt: "Picture a scientist"
DESCRIPTION:mit Prof. Dr. Katharina Karl (Pastoraltheologie\, KU Eichstätt-Ingolstadt)\, Dr. Meike Lauggas (Expertin für Gleichstellung\, Universitäts-Lehrbeauftragte\, Trainerin\, Coach\, Moderatorin und Organisationsberaterin) und Prof. Dr. Kathrin Schlemmer (Frauen- und Gleichstellungsbeauftragte\, KU Eichstätt-Ingolstadt) im Gespräch mit Dr. Ulrike Brok (KU Eichstätt-Ingolstadt). \nIn PICTURE A SCIENTIST nehmen sich eine Biologin\, eine Chemikerin und eine Geologin dieser Fragen an und führen das Publikum auf eine Reise durch die Erfahrungen ihrer akademischen Laufbahn – als Frauen der Wissenschaft. \nIn ihren Karrieren sind sie von Beginn an Diskriminierungen ausgesetzt. Wissenschaftlerinnen müssen einen stetigen Kampf um Anerkennung\, Respekt und Gleichberechtigung führen. \nDer Dokumentarfilm gibt Hoffnung\, denn er erzählt die Geschichte von Stärke und Solidarität\, von mutigen Wissenschaftlerinnen\, die sich gegen Ungerechtigkeit stemmen und einen weltweiten Diskurs des Wandels und der Gleichberechtigung ins Rollen bringen. In futuristischen Laboratorien und auf spektakulären Schauplätzen der Feldarbeit macht er deutlich\, von welch unschätzbarem Wert die Arbeit von Forscherinnen ist und wie sich die Wissenschaft durch systematische und strukturelle Umwälzungen zum Besseren bewegen lässt – für eine Welt\, in der Mädchen ihren Traum vom Forschen verwirklichen können\, für eine Welt voller Biologinnen\, Astronautinnen\, Chemikerinnen und Mathematikerinnen. \nUSA 2021 – R: Ian Cheney\, Sharon Shattuck – FSK: 12 – L: 97 min. – OmU: Originalfassung mit deutschen Untertiteln \n© Mindjazz
URL:https://mensch-in-bewegung.info/event/wissenschaftskino-eichstaett-picture-a-scientist/
LOCATION:Altstadtkino Eichstätt\, Residenzpl. 17\, Eichstätt\, 85072\, Deutschland
CATEGORIES:Für Wissenschaft begeistern,wissen.schafft.wir.,Wissenschaftskino
ATTACH;FMTTYPE=image/png:https://mensch-in-bewegung.info/wp-content/uploads/2023/10/wissen.schafft.wir_.-MiB-Webseite-KINO-1.png
END:VEVENT
BEGIN:VEVENT
DTSTART;TZID=Europe/Berlin:20231109T130000
DTEND;TZID=Europe/Berlin:20231109T190000
DTSTAMP:20260422T162930
CREATED:20231016T083901Z
LAST-MODIFIED:20231016T084120Z
UID:10004554-1699534800-1699556400@mensch-in-bewegung.info
SUMMARY:wissen.schafft.wir. ZUKUNFTSFORUM
DESCRIPTION:Welchen Beitrag leisten Wissenschaft & Forschung für die Region? \nAm 9. November findet im Georgianum und der Hohen Schule in Ingolstadt das diesjährige Zukunftsforum “wissen.schafft.wir.” statt. \nKU und THI sowie andere innovative Hochschulen zeigen ab 13:00 Uhr\, welche Bedeutung wissenschaftliche Erkenntnisse für die Zukunft unserer Gesellschaft haben. Die Teilnehmenden erwarten „Beispiele guter Praxis“ und Beiträge „Aus der Forschung für die Praxis“. Erleben Sie\, wie aus Ideen und Visionen konkrete Projekte entstehen. Das Programm richtet sich insbesondere an Lehrer*innen und Unternehmer*innen sowie Interessierte Bürgerinnen und Bürger und Studierende der Region. \nDas Zukunftsforum findet in Kooperation von KU und THI mit IHK Ingolstadt und IRMA statt. Die Teilnahme ist kostenlos. Bitte melden Sie sich hier an. \nWeitere Informationen und das Programm finde Sie hier.
URL:https://mensch-in-bewegung.info/event/wissen-schafft-wir-zukunftsforum/
LOCATION:Wissenschaftsforum am Zukunftscampus (Georgianum Ingolstadt)\, Hohe-Schul-Straße 5 (Eingang Goldknopfgasse)\, Ingolstadt\, Bayern\, 85049\, Deutschland
CATEGORIES:Für Wissenschaft begeistern,Mensch in Bewegung,wissen.schafft.wir.
ATTACH;FMTTYPE=image/png:https://mensch-in-bewegung.info/wp-content/uploads/2023/10/Header-schmal-wissen.schafft.wir_.-ZUKUNFTSFORUM.png
END:VEVENT
END:VCALENDAR