BEGIN:VCALENDAR
VERSION:2.0
PRODID:-//Mensch in Bewegung - ECPv6.15.20//NONSGML v1.0//EN
CALSCALE:GREGORIAN
METHOD:PUBLISH
X-ORIGINAL-URL:https://mensch-in-bewegung.info
X-WR-CALDESC:Veranstaltungen für Mensch in Bewegung
REFRESH-INTERVAL;VALUE=DURATION:PT1H
X-Robots-Tag:noindex
X-PUBLISHED-TTL:PT1H
BEGIN:VTIMEZONE
TZID:Europe/Berlin
BEGIN:DAYLIGHT
TZOFFSETFROM:+0100
TZOFFSETTO:+0200
TZNAME:CEST
DTSTART:20180325T010000
END:DAYLIGHT
BEGIN:STANDARD
TZOFFSETFROM:+0200
TZOFFSETTO:+0100
TZNAME:CET
DTSTART:20181028T010000
END:STANDARD
BEGIN:DAYLIGHT
TZOFFSETFROM:+0100
TZOFFSETTO:+0200
TZNAME:CEST
DTSTART:20190331T010000
END:DAYLIGHT
BEGIN:STANDARD
TZOFFSETFROM:+0200
TZOFFSETTO:+0100
TZNAME:CET
DTSTART:20191027T010000
END:STANDARD
BEGIN:DAYLIGHT
TZOFFSETFROM:+0100
TZOFFSETTO:+0200
TZNAME:CEST
DTSTART:20200329T010000
END:DAYLIGHT
BEGIN:STANDARD
TZOFFSETFROM:+0200
TZOFFSETTO:+0100
TZNAME:CET
DTSTART:20201025T010000
END:STANDARD
END:VTIMEZONE
BEGIN:VEVENT
DTSTART;TZID=Europe/Berlin:20191023T140000
DTEND;TZID=Europe/Berlin:20191023T160000
DTSTAMP:20260422T143657
CREATED:20191015T085411Z
LAST-MODIFIED:20191015T122130Z
UID:10004402-1571839200-1571846400@mensch-in-bewegung.info
SUMMARY:Changemaker - Gesellschaftliche Innovation gestalten
DESCRIPTION:Die Lehrveranstaltung „Changemaker – Gesellschaftliche Innovation gestalten„ bietet Studierenden die Möglichkeit\, aus einer Idee ein Projekt auszuarbeiten. Gemeinsam im Team sprecht Ihr über wichtige regionale soziale oder ökologische Probleme. Nachdem Ihr Euch auf eines geeinigt habt\, entwickelt Ihr eine Projektidee\, die dieses Problem unternehmerisch löst. \nDas Team von KU.impact hilft euch\, einen Projektantrag zu entwerfen\, mit dem Ihr bis zu 2000 Euro Preisgeld ergattern könnt. Ihr lernt Design-Thinking-Methoden\, Projektentwicklung (inklusive Finanzierungs- und Geschäftsmodell) und gemeinschaftliche Teamarbeit. Der Kurs ist Teil des Studium.Pro an der KU. Dadurch wird eine Anrechnung von 5 ECTS-Punkten in vielen Studiengängen möglich. \nMehr Informationen zur Lehrveranstaltung und allen Terminen gibt es hier: KU.Campus
URL:https://mensch-in-bewegung.info/event/changemaker-gesellschaftliche-innovation-gestalten/
LOCATION:KU.impact\, Am Anger 18\, Eichstätt\, Bayern\, 85072\, Deutschland
ATTACH;FMTTYPE=image/jpeg:https://mensch-in-bewegung.info/wp-content/uploads/2019/10/DSC_1001.jpg
END:VEVENT
BEGIN:VEVENT
DTSTART;TZID=Europe/Berlin:20190625T183000
DTEND;TZID=Europe/Berlin:20190719T120000
DTSTAMP:20260422T143657
CREATED:20190618T094909Z
LAST-MODIFIED:20190627T091228Z
UID:10004391-1561487400-1563537600@mensch-in-bewegung.info
SUMMARY:Ausstellung über Sprachforschung in Brasilien
DESCRIPTION:Es ist eine sprachliche Eigentümlichkeit: Mitten in Brasilien sprechen einige Menschen heute noch „Hunsrückisch„ – einen deutschen Dialekt. Eine Ausstellung im Rahmen des „Schaufensters der Wissenschaft„ im KU.impact-Büro beschäftigt sich nun mit der speziellen Mundart\, die nur in dem südamerikanischen Land vorkommt und auf Dialekte aus Rheinland-Pfalz zurückgeht. Die sprachliche Besonderheit ist durch Einwanderungsgeschichte zu erklären. Studierende der Katholischen Universität Eichstätt-Ingolstadt (KU) haben gemeinsam mit Prof. Dr. Sebastian Kürschner (Lehrstuhl für Deutsche Sprachwissenschaft) und weiteren Dozierenden bei einer Studienreise untersucht\, wie sich das Hunsrückisch im brasilianischen Alltag entwickelt hat und welche Rolle es noch spielt. Die Ausstellung zeigt ab Dienstag\, 25. Juni\, die Ergebnisse. \nPlakate\, Fotos\, Videos und Audiodateien bieten Einblicke in die Themen Gesellschaft\, Kultur\, deutsche Sprache und Einwanderungsgeschichte in Brasilien. Die Ausstellung „Deutsch-portugiesischer Sprachkontakt seit dem 19. Jahrhundert: Ausstellung zu einer Studienreise nach Südbrasilien„ ist das Ergebnis eines Projektseminars (Leitung: Carina Redel\, Angélica Prédiger und Lucas Löff Machado)\, das die Daten der Forschungsexkursion aufbereitet hat. Zur Eröffnung wird am Dienstag\, 25. Juni\, zunächst um 18.30 Uhr die Dokumentation des Bayerischen Rundfunks „In Brasilien auf Hunsrückisch leben„ gezeigt. Ab 19.30 Uhr schließt sich die Präsentation der Exkursions-Ergebnisse an. \nIm März und April 2019 hatte die Exkursionsgruppe der KU in mehreren Städten in Südbrasilien Interviews mit den Nachkommen von Auswanderern geführt. Auch andere Orte der Erinnerung deutscher Geschichte wie Friedhöfe\, Kirchen\, Vereine und Museen waren Teile der Datenerhebung. So wurden beispielsweise deutsche Inschriften dokumentiert. Unterstützung erhielt die Gruppe der KU dabei von vier Forschungsmitarbeitern zu den deutschen Dialekten aus der Bundesuniversität Rio Grande do Sul (UFRGS). Die teilnehmenden Studierenden aus den Studiengängen Lateinamerikastudien\, Germanistik\, Psychologie und dem Master “Conflict\, Peace and Memory” lernten in dem Projekt\, wie wissenschaftliches Forschen im Bereich Mehrsprachigkeit und Migration funktioniert. Südbrasilien eignete sich besonders als Forschungsziel\, da die portugiesische und deutsche Sprache dort seit dem 19. Jahrhundert miteinander in Kontakt sind. Aus deutschsprachigen Gebieten wie Böhmen\, Hunsrück und Pommern kamen  Einwanderer in diese Region. \nErgänzt wird die Ausstellung mit Kunstwerken der brasilianischen Künstlerin und Lehrerin Sara Winckelmann. Sie wohnt in Porto Alegre\, Brasilien\, wo sie Holzschnitt im Museum der Arbeit unterrichtet. In ihre Werke mischt sie Techniken der Druckkunst und der manuellen Herstellung. Durch Druckkunst und Stickarbeit werden Erfahrungen des alltäglichen Lebens präsentiert\, wie sie von jemanden wahrgenommen werden\, der in einer deutschen Gemeinde in Brasilien aufgewachsen ist. \nDie Ausstellung im KU.impact-Büro (Am Anger 18\, Eichstätt) ist vom 25. Juni bis zum 19. Juli jeweils montags bis donnerstags von 9 bis 17 Uhr und freitags von 9 bis 12 Uhr geöffnet. \nFoto: Christiane Hoth
URL:https://mensch-in-bewegung.info/event/ausstellung-ueber-sprachforschung-in-brasilien/
ATTACH;FMTTYPE=image/jpeg:https://mensch-in-bewegung.info/wp-content/uploads/2019/06/93A41BED-FBA6-4DA4-A762-638DC5B8D548.jpeg
END:VEVENT
END:VCALENDAR