BEGIN:VCALENDAR
VERSION:2.0
PRODID:-//Mensch in Bewegung - ECPv6.15.20//NONSGML v1.0//EN
CALSCALE:GREGORIAN
METHOD:PUBLISH
X-WR-CALNAME:Mensch in Bewegung
X-ORIGINAL-URL:https://mensch-in-bewegung.info
X-WR-CALDESC:Veranstaltungen für Mensch in Bewegung
REFRESH-INTERVAL;VALUE=DURATION:PT1H
X-Robots-Tag:noindex
X-PUBLISHED-TTL:PT1H
BEGIN:VTIMEZONE
TZID:Europe/Berlin
BEGIN:DAYLIGHT
TZOFFSETFROM:+0100
TZOFFSETTO:+0200
TZNAME:CEST
DTSTART:20230326T010000
END:DAYLIGHT
BEGIN:STANDARD
TZOFFSETFROM:+0200
TZOFFSETTO:+0100
TZNAME:CET
DTSTART:20231029T010000
END:STANDARD
BEGIN:DAYLIGHT
TZOFFSETFROM:+0100
TZOFFSETTO:+0200
TZNAME:CEST
DTSTART:20240331T010000
END:DAYLIGHT
BEGIN:STANDARD
TZOFFSETFROM:+0200
TZOFFSETTO:+0100
TZNAME:CET
DTSTART:20241027T010000
END:STANDARD
BEGIN:DAYLIGHT
TZOFFSETFROM:+0100
TZOFFSETTO:+0200
TZNAME:CEST
DTSTART:20250330T010000
END:DAYLIGHT
BEGIN:STANDARD
TZOFFSETFROM:+0200
TZOFFSETTO:+0100
TZNAME:CET
DTSTART:20251026T010000
END:STANDARD
END:VTIMEZONE
BEGIN:VEVENT
DTSTART;TZID=Europe/Berlin:20240715T190000
DTEND;TZID=Europe/Berlin:20240715T200000
DTSTAMP:20260420T162704
CREATED:20240619T090719Z
LAST-MODIFIED:20240619T092209Z
UID:10004579-1721070000-1721073600@mensch-in-bewegung.info
SUMMARY:Warum ist nicht mehr Nachhaltigkeit und warum wird's sicher mehr werden? Vortrag und Diskussion
DESCRIPTION:Die Veranstaltung findet im Rahmen des Klimathon 2024 „Alle fürs Klima und das Klima für uns!“. Der 21-tägige Klimathon (in Anlehnung an einen Halbmarathon von 21 km) ist eine große Klimaschutzaktion für alle Bürgerinnen und Bürger im Landkreis Neuburg-Schrobenhausen. Der Klimathon besteht zum einen aus einem App-basierten Wettbewerb (2zero App) und zum anderen aus begleitenden Aktionen und Veranstaltungen zu dem Thema Klima\, die parallel in den drei Wochen für alle Bürger und Bürgerinnen angeboten werden. \nDer etwa einstündige Vortrag mit Diskussion ist wie folgt aufgebaut: \n1. Nachhaltigkeit global – Einige Kennzahlen\n2. Nachhaltigkeit national – Einige Kennzahlen\n3. Dimensionen der Nachhaltigkeit auf dem Kreuzfahrtschiff\n4. Wieso wird noch nicht ausreichend auf die ökologischen Herausforderungen reagiert?\n5. Vier unwahrscheinliche Szenarien zum zukünftigen postmodernen nachhaltigen Leben\n6. Und sollten die unwahrscheinlichen Szenarien nicht eintreten\, wird die Weltgesellschaft trotzdem nachhaltig\, was nicht unbedingt eine optimistische Prognose ist \nOrt: Stadtbücherei Schrobenhausen\, Gerolsbacher Straße 19 \nKursleitung: Dr. Stefan Schweiger (Technische Hochschule Ingolstadt) \nDr. Stefan Schweiger hat an den Universitäten Augsburg und Münster Politikwissenschaft\, Neuere und Neueste Geschichte sowie Volkskunde studiert und an der Universität Potsdam über Narrative der Energiewende promoviert. Er hat an den Universitäten Duisburg-Essen und Bochum zu Nachhaltigkeit geforscht und ist im Moment Forschungsmanager am Institut ForTraNN am Nachhaltigkeitscampus der Technischen Hochschule in Neuburg an der Donau. \n  \nWer macht mit?\nVon klein bis groß\, von jung bis alt: Alle sind eingeladen Teil des Klimathon zu werden. Die Teilnahme ist natürlich kostenlos! Der Klimathon findet von Sonntag\, 07.07.2024 bis Samstag\, 27.07.2024 statt. Informationen\, alle Aktionen und das Programm unter Klimathon 2024 „Alle fürs Klima und das Klima für uns!“ / Landkreis Neuburg-Schrobenhausen
URL:https://mensch-in-bewegung.info/event/warum-ist-nicht-mehr-nachhaltigkeit-und-warum-wirds-sicher-mehr-werden-vortrag-und-diskussion/
LOCATION:Stadtbücherei Schrobenhausen\, Gerolsbacher Straße 19\, Schrobenhausen\, 86529
CATEGORIES:Für Wissenschaft begeistern,Transferraum Nachhaltigkeit,Zusammenarbeit gestalten
ATTACH;FMTTYPE=image/png:https://mensch-in-bewegung.info/wp-content/uploads/2024/06/240619_Plakat_Klimathon_ND.png
END:VEVENT
BEGIN:VEVENT
DTSTART;TZID=Europe/Berlin:20240712T190000
DTEND;TZID=Europe/Berlin:20240712T200000
DTSTAMP:20260420T162704
CREATED:20240619T091939Z
LAST-MODIFIED:20240619T091939Z
UID:10004580-1720810800-1720814400@mensch-in-bewegung.info
SUMMARY:(Un-)freiwillig nachhaltige Lebensstile: wer lebt eigentlich klimafreundlich?
DESCRIPTION:Welche Lebensstile schützen eigentlich das Klima am meisten? Und was bedeutet ein ökologisch-nachhaltiger Lebensstil für Möglichkeiten\, am gesellschaftlichen Leben teilzuhaben? Was hat das mit Gerechtigkeit zu tun\, in Deutschland aber auch darüber hinaus? \nIm Rahmen dieses Vortrags erörtert die Referentin einige Möglichkeiten und Grenzen ökologisch-nachhaltiger Lebensstile. Dabei geht sie darauf ein\, wie die Kosten von (nicht-)nachhaltigem Leben in unserer Gesellschaft aktuell verteilt sind. \nOrt: Vortragsraum im Bücherturm Neuburg Sèter Platz \nKursleitung: Anna-Lisa Klages (Technische Hochschule Ingolstadt) \nAnna-Lisa Klages hat an der Universität Tel Aviv Soziale Arbeit (M.A.) mit dem Schwerpunkt Krisenbewältigung sowie Kunsttherapie und Humanitarian Assistance (B.A.) an der Stenden University of Applied Science (Niederlande) studiert. In ihrer Promotionsforschung beschäftigte sie sich mit der Frage von Nachhaltigkeit im Kontext von Entwicklungszusammenarbeit in Ostafrika. Zuvor lebte sie einige Jahre im Ausland und war dort wie hier in Deutschland in unterschiedlichen Bereichen der Sozialarbeitspraxis tätig. \n  \nDie Veranstaltung findet im Rahmen des Klimathon 2024 „Alle fürs Klima und das Klima für uns!“. Der 21-tägige Klimathon (in Anlehnung an einen Halbmarathon von 21 km) ist eine große Klimaschutzaktion für alle Bürgerinnen und Bürger im Landkreis Neuburg-Schrobenhausen. Der Klimathon besteht zum einen aus einem App-basierten Wettbewerb (2zero App) und zum anderen aus begleitenden Aktionen und Veranstaltungen zu dem Thema Klima\, die parallel in den drei Wochen für alle Bürger und Bürgerinnen angeboten werden. \nWer macht mit?\nVon klein bis groß\, von jung bis alt: Alle sind eingeladen Teil des Klimathon zu werden. Die Teilnahme ist natürlich kostenlos! Der Klimathon findet von Sonntag\, 07.07.2024 bis Samstag\, 27.07.2024 statt. Informationen\, alle Aktionen und das Programm unter Klimathon 2024 „Alle fürs Klima und das Klima für uns!“ / Landkreis Neuburg-Schrobenhausen
URL:https://mensch-in-bewegung.info/event/un-freiwillig-nachhaltige-lebensstile-wer-lebt-eigentlich-klimafreundlich/
LOCATION:Bücherturm Neuburg\, Sèter Platz\, Neuburg an der Donau\, 86633\, Deutschland
CATEGORIES:Für Wissenschaft begeistern,Transferraum Nachhaltigkeit,Zusammenarbeit gestalten
ATTACH;FMTTYPE=image/png:https://mensch-in-bewegung.info/wp-content/uploads/2024/06/240619_Plakat_Klimathon_ND.png
END:VEVENT
END:VCALENDAR