BEGIN:VCALENDAR
VERSION:2.0
PRODID:-//Mensch in Bewegung - ECPv6.15.20//NONSGML v1.0//EN
CALSCALE:GREGORIAN
METHOD:PUBLISH
X-WR-CALNAME:Mensch in Bewegung
X-ORIGINAL-URL:https://mensch-in-bewegung.info
X-WR-CALDESC:Veranstaltungen für Mensch in Bewegung
REFRESH-INTERVAL;VALUE=DURATION:PT1H
X-Robots-Tag:noindex
X-PUBLISHED-TTL:PT1H
BEGIN:VTIMEZONE
TZID:Europe/Berlin
BEGIN:DAYLIGHT
TZOFFSETFROM:+0100
TZOFFSETTO:+0200
TZNAME:CEST
DTSTART:20220327T010000
END:DAYLIGHT
BEGIN:STANDARD
TZOFFSETFROM:+0200
TZOFFSETTO:+0100
TZNAME:CET
DTSTART:20221030T010000
END:STANDARD
BEGIN:DAYLIGHT
TZOFFSETFROM:+0100
TZOFFSETTO:+0200
TZNAME:CEST
DTSTART:20230326T010000
END:DAYLIGHT
BEGIN:STANDARD
TZOFFSETFROM:+0200
TZOFFSETTO:+0100
TZNAME:CET
DTSTART:20231029T010000
END:STANDARD
BEGIN:DAYLIGHT
TZOFFSETFROM:+0100
TZOFFSETTO:+0200
TZNAME:CEST
DTSTART:20240331T010000
END:DAYLIGHT
BEGIN:STANDARD
TZOFFSETFROM:+0200
TZOFFSETTO:+0100
TZNAME:CET
DTSTART:20241027T010000
END:STANDARD
BEGIN:DAYLIGHT
TZOFFSETFROM:+0100
TZOFFSETTO:+0200
TZNAME:CEST
DTSTART:20250330T010000
END:DAYLIGHT
BEGIN:STANDARD
TZOFFSETFROM:+0200
TZOFFSETTO:+0100
TZNAME:CET
DTSTART:20251026T010000
END:STANDARD
BEGIN:DAYLIGHT
TZOFFSETFROM:+0100
TZOFFSETTO:+0200
TZNAME:CEST
DTSTART:20260329T010000
END:DAYLIGHT
BEGIN:STANDARD
TZOFFSETFROM:+0200
TZOFFSETTO:+0100
TZNAME:CET
DTSTART:20261025T010000
END:STANDARD
BEGIN:DAYLIGHT
TZOFFSETFROM:+0100
TZOFFSETTO:+0200
TZNAME:CEST
DTSTART:20270328T010000
END:DAYLIGHT
BEGIN:STANDARD
TZOFFSETFROM:+0200
TZOFFSETTO:+0100
TZNAME:CET
DTSTART:20271031T010000
END:STANDARD
END:VTIMEZONE
BEGIN:VEVENT
DTSTART;TZID=Europe/Berlin:20260210T180000
DTEND;TZID=Europe/Berlin:20260210T200000
DTSTAMP:20260421T124041
CREATED:20260123T154433Z
LAST-MODIFIED:20260130T085646Z
UID:10004714-1770746400-1770753600@mensch-in-bewegung.info
SUMMARY:wissen.schafft.wir. DIALOG: "Starke Frauen - Starke Demokratie"
DESCRIPTION:„Bildrecht: KDFB Landesverband Bayern \n  \n„Starke Frauen – Starke Demokratie“ – unter diesem Motto hat der Landesverband Bayern des Katholischen Deutschen Frauenbunds eine gleichnamige Kampagne ins Leben gerufen. Denn Demokratie braucht alle Geschlechter. In Kooperation mit „Mensch in Bewegung“ lädt der KDFB Diözesanverband Eichstätt zu einer Podiumsdiskussion mit Kommunalpolitikerinnen demokratischer Parteien sowie mit Prof. Dr. Rowena Roppelt\, stellv. Gleichstellungsbeauftragte der KU Eichstätt\, und Andrea Bittlmayer\, Koordinierungs- und Fachkraft der Partnerschaft für Demokratie im Landkreis Eichstätt\, ein. Diskutiert werden die oft verkannte Relevanz von Frauen auf kommunalpolitischer Ebene\, ihre Bedeutung im demokratischen Diskurs\, aber auch die Hürden\, vor denen Kommunalpolitikerinnen stehen. Im Anschluss findet ein Austausch über die Thematik statt. \nAnmeldung per E-Mail an info@frauenbund-eichstätt.de oder telefonisch unter Tel. 08421 50-674.
URL:https://mensch-in-bewegung.info/event/wissen-schafft-wir-dialog-starke-frauen-starke-demokratie/
LOCATION:Büro für die Bürgerschaft der Katholischen Universität Eichstätt-Ingolstadt\, Markplatz 18\, Eichstätt\, 85072
CATEGORIES:Bürgerschaftliches Engagement,Mensch in Bewegung,Neue Ideen entwickeln,Transfer,wissen.schafft.wir.,Zusammenarbeit gestalten
ATTACH;FMTTYPE=image/png:https://mensch-in-bewegung.info/wp-content/uploads/2026/01/Starke-Frauen-Starke-Demokratie.png
END:VEVENT
BEGIN:VEVENT
DTSTART;TZID=Europe/Berlin:20251001T180000
DTEND;TZID=Europe/Berlin:20251001T180000
DTSTAMP:20260421T124041
CREATED:20250915T095820Z
LAST-MODIFIED:20250915T095820Z
UID:10004704-1759341600-1759341600@mensch-in-bewegung.info
SUMMARY:Zukunftswege durch Eichstätt – Unterwegs mit den Themen von morgen
DESCRIPTION:Wie sieht die Zukunft unserer Region aus? Bei „Zukunftswege“ lädt die KU zu einem besonderen Spaziergang durch Eichstätt ein. An mehreren Orten der Altstadt sprechen die Teilnehmenden über Herausforderungen und Perspektiven der Region. Themen sind unter anderem Wohnraum\, Fachkräftemangel oder der soziale Zusammenhalt in der Gesellschaft. \nGrundlage der Diskussion ist das Zukunftsbarometer\, eine regionale Befragung zur Zukunftsfähigkeit unserer Region. \nZum Abschluss des Stadtspaziergangs gibt es im Büro für die Bürgerschaft bei einem Get-together mit Getränken die Gelegenheit\, sich weiter auszutauschen. \nTreffpunkt: Mittwoch\, 01.10.2025 um 18:00 Uhr am Büro für dei Bürgerschaft\, Marktplatz 18\, 85072 Eichstätt \n  \nHier finden Sie die Ergebnisse des Zukunftsbarometers: Zukunftsbarometer – KU \nDas regionale Zukunftsbarometer erfasst Meinungen\, Wünsche und Einstellungen der regionalen Bevölkerung zur Zukunft der Region. Die KU Eichstätt-Ingolstadt führt diese Befragung im Rahmen des Projekts „Mensch in Bewegung“ durch. Es verfolgt das Ziel\, die Gesellschaft\, die Unternehmen und die Hochschulen der Region noch enger zu vernetzen. \n  \nKontakt:\nDr. Daniel Zacher (daniel.zacher@ku.de)\nLucas Kames (lucas.kames@ku.de)\nProjekt „Mensch in Bewegung“\, KU \n  \nFoto: (c)Robert Kneschke – stock.adobe.com
URL:https://mensch-in-bewegung.info/event/zukunftswege-durch-eichstaett-unterwegs-mit-den-themen-von-morgen/
LOCATION:Büro für die Bürgerschaft der Katholischen Universität Eichstätt-Ingolstadt\, Markplatz 18\, Eichstätt\, 85072
CATEGORIES:Für Wissenschaft begeistern,Mensch in Bewegung,Neue Ideen entwickeln,Transfer,wissen.schafft.wir.,Zusammenarbeit gestalten
ATTACH;FMTTYPE=image/jpeg:https://mensch-in-bewegung.info/wp-content/uploads/2025/09/Stadtspaziergang-durch-Eichstaett.jpeg
END:VEVENT
BEGIN:VEVENT
DTSTART;TZID=Europe/Berlin:20250715T160000
DTEND;TZID=Europe/Berlin:20250715T180000
DTSTAMP:20260421T124041
CREATED:20250709T063358Z
LAST-MODIFIED:20250709T072905Z
UID:10004700-1752595200-1752602400@mensch-in-bewegung.info
SUMMARY:Wissenschaft für Nachhaltigkeit: Legitimes Engagement oder fragwürdiger Aktivismus? Round-Table-Gespräch
DESCRIPTION:Klimawandel-Skeptikerinnen und -Skeptiker werfen Forschenden immer wieder vor\, nicht objektiv zu sein. Vor diesem Hintergrund geht das Round-Table-Gespräch der Frage nach Engagement und Werteorientierung in der Wissenschaft nach. Wie engagiert können Forschende öffentlich auftreten? Untergräbt der Bezug auf grundlegende Werte wie Nachhaltigkeit ihre Glaubwürdigkeit? Im Fokus der Diskussion steht die Rolle von Philosophie und Ethik bei der Begründung grundlegender Werte und Prinzipien\, die das Engagement von Forschenden legitimieren. Mit den Teilnehmenden des Round Tables diskutieren Prof. Dr. Imke von Maur\, Professorin für Philosophie\, und Prof. Dr. Martin Schneider\, Professor für Moraltheologie und Sozialethik (beide KU). Die Veranstaltung findet im Rahmen des von der Volkswagenstiftung finanzierten Projekts „Kleine Kommunen\, große Wirkung“ statt. \nkostenfrei \nDatum: 15.07.25\, Dienstag\, 16:00–18:00 Uhr \nOrt: Büro für die Bürgerschaft\, Marktplatz 18\, Foyer \nKontakt: Dr. Thomas Metten\, Stabsstelle Strategie und Hochschulentwicklung\, KU\, E-Mail: thomas.metten@ku.de
URL:https://mensch-in-bewegung.info/event/wissenschaft-fuer-nachhaltigkeit-legitimes-engagement-oder-fragwuerdiger-aktivismus-round-table-gespraech/
LOCATION:Büro für die Bürgerschaft der Katholischen Universität Eichstätt-Ingolstadt\, Markplatz 18\, Eichstätt\, 85072
CATEGORIES:Mensch in Bewegung,wissen.schafft.wir.
ATTACH;FMTTYPE=image/png:https://mensch-in-bewegung.info/wp-content/uploads/2025/07/Bildquelle-KU1.png
END:VEVENT
BEGIN:VEVENT
DTSTART;TZID=Europe/Berlin:20250527T180000
DTEND;TZID=Europe/Berlin:20250527T180000
DTSTAMP:20260421T124041
CREATED:20250513T092746Z
LAST-MODIFIED:20250513T093431Z
UID:10004687-1748368800-1748368800@mensch-in-bewegung.info
SUMMARY:Round-Table-Gespräch: Multiple Gerechtigkeiten und Partizipative Governance in der sozial-ökologischen Transformation
DESCRIPTION:Themen der sozial-ökologischen Transformation stehen bei einem Round-Table-Gespräch mit Dr. Stefanie Baasch am Dienstag\, 27. Mai\, 18 Uhr\, im Büro für die Bürgerschaft in Eichstätt im Fokus. Die promovierte Humangeographin und Umweltpsychologin nimmt dabei im Besonderen Fragen der Gerechtigkeit und der Teilhabe an den Prozessen und Ergebnissen dieser Transformation in den Blick. Sachlich geht es vor allem um Fragen der Energietransformation\, zu denen sie in den letzten Jahren umfangreiche empirische Forschungen in drittmittelgeförderten Projekten durchgeführt hat. In ihren thematischen Schwerpunkten behandelt sie problematische Produktions- und Konsummuster\, die als wesentliche Ursachen multipler globaler ökologische Krisen gelten. Das Round-Table-Gespräch findet im Rahmen des von der Volkswagenstiftung finanzierten Projekte „Kleine Kommunen\, große Wirkung statt. Der Vortrag ist offen für alle interessierten Personen. Eine Anmeldung ist vorab möglich bei Dr. Thomas Metten: thomas.metten@ku.de \nZur Person\nStefanie Baasch leitet die Forschungsgruppe „Social-ecological Governance & Justice„ am artec Forschungszentrum Nachhaltigkeit der Universität Bremen. Derzeit habilitiert sich im Lehr- und Forschungsgebiet Humangeographie. \n 
URL:https://mensch-in-bewegung.info/event/round-table-gespraech-multiple-gerechtigkeiten-und-partizipative-governance-in-der-sozial-oekologischen-transformation/
LOCATION:Büro für die Bürgerschaft der Katholischen Universität Eichstätt-Ingolstadt\, Markplatz 18\, Eichstätt\, 85072
CATEGORIES:Transferraum Nachhaltigkeit
ATTACH;FMTTYPE=image/jpeg:https://mensch-in-bewegung.info/wp-content/uploads/2025/05/Stefanie-Baasch_foto.jpg
END:VEVENT
BEGIN:VEVENT
DTSTART;TZID=Europe/Berlin:20240717T180000
DTEND;TZID=Europe/Berlin:20240717T180000
DTSTAMP:20260421T124041
CREATED:20240626T102545Z
LAST-MODIFIED:20240704T142633Z
UID:10004581-1721239200-1721239200@mensch-in-bewegung.info
SUMMARY:Eichstätts öffentliche Räume unter der Lupe: Schülerinnen und Schüler präsentieren Forschungsergebnisse
DESCRIPTION:Wie wird der öffentliche Raum in Eichstätt genutzt? Ein Schuljahr lang hat die AG Politik des Willibald Gymnasiums unter dem Motto „Eichstätt – Raum für alle“ gemeinsam mit dem Lehrstuhl für Politische Bildung der KU und dem KU Citizen Science Lab zu dieser Frage geforscht. Die Ergebnisse ihrer Arbeit präsentieren die Schülerinnen und Schüler am 17. Juli um 18 Uhr im Büro für die Bürgerschaft am Marktplatz 18 allen Interessierten. \nMit einem Citizen-Science-Ansatz\, der Laien und Wissenschaftlerinnen und Wissenschaftler zusammenbringt und gemeinsames Forschen möglich macht\, haben sie sich mit verschiedenen Nutzungsgruppen\, Nutzungsinteressen und Nutzungsarten öffentlicher Räume in Eichstätt auseinandergesetzt. Im Fokus standen Jugendliche\, Kinder\, Seniorinnen und Senioren sowie Menschen mit Behinderung. Wo befriedigt die Gestaltung von Orten wie dem Hofgarten oder dem Residenzplatz bereits die Bedürfnisse dieser Gruppen? An welchen Stellen besteht Verbesserungspotenzial? Diese Fragen beantworten die Schülerinnen und Schüler nun anhand der im Projekt entstandenen Forschungsergebnisse beim öffentlichen Abschlussworkshop am 17. Juli. \nNach der Präsentation laden die Schülerinnen und Schüler der AG Politik zur Diskussion ein. \n  \nÜber „Eichstätt – Raum für alle“ \n“Eichstätt – Raum für alle” ist ein Citizen-Science-Projekt der Professur für Politische Bildung an der Katholischen Universität Eichstätt-Ingolstadt. Im Rahmen des Projekts arbeitet die Professur unter der Leitung von Prof. Dr. Rico Behrens mit dem Wissenstransferprojekt „Mensch in Bewegung“ zusammen und untersucht gemeinsam mit Schülerinnen und Schülern die vielfältigen Bedürfnisse und Anforderungen\, die Bürgerinnen und Bürger an die Gestaltung des öffentlichen Raums in Eichstätt haben. Als sogenannte „Young Citizens“ bringen die Schülerinnen und Schüler ihr Wissen in die Forschung ein. Zielgruppenspezifische Methodentrainings helfen ihnen dabei\, Wissen und Kompetenzen zu erwerben\, mit denen sie zur Lösung lokaler Herausforderungen beitragen können. Das Projekt „Eichstätt – Raum für alle“ wird von der Hans Sauer Stiftung gefördert\, „Mensch in Bewegung vom Bundesministerium für Bildung und Forschung (BMBF) und dem Land Bayern im Rahmen der Förderinitiative Innovative Hochschule. \nFoto: © Sina Ettmer – stock.adobe.com
URL:https://mensch-in-bewegung.info/event/eichstaett-raum-fuer-alle-17-07-2024/
LOCATION:Büro für die Bürgerschaft der Katholischen Universität Eichstätt-Ingolstadt\, Markplatz 18\, Eichstätt\, 85072
CATEGORIES:Für Wissenschaft begeistern,Neue Ideen entwickeln,Transferraum Zukunft,Zusammenarbeit gestalten
ATTACH;FMTTYPE=image/jpeg:https://mensch-in-bewegung.info/wp-content/uploads/2024/06/Abschlussveranstaltung-Eichstaett_Raum_fuer_alle_Einladung.jpg
END:VEVENT
BEGIN:VEVENT
DTSTART;TZID=Europe/Berlin:20240123T140000
DTEND;TZID=Europe/Berlin:20240123T160000
DTSTAMP:20260421T124041
CREATED:20240123T105455Z
LAST-MODIFIED:20240123T105455Z
UID:10004466-1706018400-1706025600@mensch-in-bewegung.info
SUMMARY:Klimawandel und mentale Gesundheit - Green Office Café mit AK Mental Health
DESCRIPTION:Überflutete Gebiete\, Waldbrände und Artensterben – der Klimawandel ist heute spürbarer denn je. Das kann sich belastend und überfordernd anfühlen. Das Green Office Café der Katholischen Universität Eichstätt-Ingolstadt bietet am 23. Januar gemeinsam mit Studierenden des Arbeitskreises Mental Health die Möglichkeit zum Austausch über einen guten\, persönlichen Umgang mit den Belastungen durch die Klimakrise. Dabei geht es zum Beispiel um folgende Fragen: Was kann jeder selbst  gegen psychische Belastungen durch den Klimawandel tun? Welchen Einfluss hat der Umgang mit dem Thema Klimawandel auf die eigene Person und auf andere? Gesprochen wird auch darüber\, wie man künftig mit dem Klimawandel und den damit verbundenen psychischen Belastungen umgehen kann und möchte. Alle Interessierten sind herzlich zum gemeinsamen Austausch von 14 bis 16 Uhr eingeladen. Das Green Office Café findet im Büro für die Bürgerschaft der KU (Marktplatz 18\, Eichstätt) statt. \nDas Green Office Café ist ein Angebot des Nachhaltigkeitsbüros an der KU\, findet einmal im Monat statt und steht allen Interessierten offen. Jeder Austausch steht unter einem anderen Motto – immer mit Bezug zum Thema Nachhaltigkeit. Die Termine kündigt das Green Office im Online-Veranstaltungskalender der KU sowie bei Instagram unter @greenoffice_nachhaltigeku an. \nDas Büro für die Bürgerschaft ist ein Begegnungsraum der KU\, der im Juni 2023 gemeinsam von der Universität\, der Stadt und dem Landkreis Eichstätt gegründet wurde. Durch Ausstellungen\, Workshops und Beteiligungsprozesse soll das Büro dazu dienen\, eine Kooperationskultur zwischen Bürgerinnen und Bürgern\, Politik\, Verwaltung\, zivilgesellschaftlichen Akteuren und Universität zu etablieren.
URL:https://mensch-in-bewegung.info/event/klimawandel-und-mentale-gesundheit-green-office-cafe-mit-ak-mental-health/
LOCATION:Büro für die Bürgerschaft der Katholischen Universität Eichstätt-Ingolstadt\, Markplatz 18\, Eichstätt\, 85072
CATEGORIES:Transferraum Nachhaltigkeit
ATTACH;FMTTYPE=image/png:https://mensch-in-bewegung.info/wp-content/uploads/2024/01/Green-Office-Cafe-Feed.png
ORGANIZER;CN="Green Office %E2%80%93 Nachhaltigkeitsb%C3%BCro der KU":MAILTO:greenoffice(at)ku.de
END:VEVENT
BEGIN:VEVENT
DTSTART;TZID=Europe/Berlin:20231024T180000
DTEND;TZID=Europe/Berlin:20231024T200000
DTSTAMP:20260421T124041
CREATED:20231004T145904Z
LAST-MODIFIED:20231023T110113Z
UID:10004553-1698170400-1698177600@mensch-in-bewegung.info
SUMMARY:wissen.schafft.wir. DIALOG: "Meinungsbildung und Meinungsfreiheit im Zeitalter sozialer Medien"
DESCRIPTION:Offene Diskussionsrunde mit Expert*innen aus KU\nwissen.schafft.wir. DIALOG: „Meinungsbildung und Meinungsfreiheit im Zeitalter sozialer Medien„ \nDas Grundgesetz (Artikel 5) garantiert das Recht auf freie Meinungsäußerung. Doch wie sieht die Realität aus? Wir diskutieren gemeinsam mit Vertreterinnen und Vertretern aus Wissenschaft\, Medien\, Jugendparlament und Jugendzentrum Fragen wie: Wer oder was bestimmt die öffentliche Wahrnehmung und Meinungsbildung? Welche Rolle spielen hier-bei traditionelle und neue Medien? Und wie können wir den demokratischen Wert der Meinungsfreiheit schützen? \nEs diskutieren: \nNicole Balzer\, Jugendzentrum Eichstätt \nDr. Eveline Hermannseder\, Stadtjugendring Ingolstadt \nProf. Dr. Annika Sehl\, Lehrstuhl für Journalistik mit dem Schwerpunkt Medienstrukturen und Gesellschaft\, Katholische Universität Eichstätt-Ingolstadt \nMarco Schneider\, Redaktionsleiter Eichstätter Kurier \nModeration: Dr. Thomas Metten
URL:https://mensch-in-bewegung.info/event/meinungsbildung-und-meinungsfreiheit-im-zeitalter-sozialer-medien/
LOCATION:Büro für die Bürgerschaft der Katholischen Universität Eichstätt-Ingolstadt\, Markplatz 18\, Eichstätt\, 85072
CATEGORIES:Für Wissenschaft begeistern,wissen.schafft.wir.
ATTACH;FMTTYPE=image/png:https://mensch-in-bewegung.info/wp-content/uploads/2023/10/wissen.schafft.wir_.-MiB-Webseite-KINO-Hochformat.png
END:VEVENT
BEGIN:VEVENT
DTSTART;TZID=Europe/Berlin:20231017T180000
DTEND;TZID=Europe/Berlin:20231017T193000
DTSTAMP:20260421T124041
CREATED:20231002T102951Z
LAST-MODIFIED:20231002T103321Z
UID:10004550-1697565600-1697571000@mensch-in-bewegung.info
SUMMARY:Umstrittene Migrationsgesellschaften: Erinnerung\, Teilhabe\, Abwehr
DESCRIPTION:Podiumsdiskussion mit dem Zentrum Flucht und Migration der Katholischen Universität Eichstätt-Ingolstadt\nDebatten um Migration werden oft losgelöst von wissenschaftlichen Erkenntnissen geführt. Anlässlich dieser Lücke gibt das Zentrum für Flucht und Migration der KU (ZFM) einen Überblick über seine Forschungsprojekte und setzt diese in den Kontext der Ausstellung. Am 17. Oktober um 18 Uhr diskutieren Wissenschaftlerinnen und Wissenschaftler im Büro für die Bürgerschaft verschiedene migrationspolitische Spannungsfelder auf Basis ihrer Forschungsprojekte zu Kirchenasyl\, Rechtsextremismus\, Rassismus und Erinnerungskulturen. Dr. Floris Biskamp beleuchtet den Erfolg von Rechtsaußenparteien aus politikwissenschaftlicher Perspektive\, Dr. Tanja Evers ergänzt die Runde mit einem kommunikationswissenschaftlichen Blick auf rechtspopulistische Strategien\, Social Media und journalistische Diversität. Lea Gelardi liefert ausgehend von Forschungsdaten Einblicke in die Praxis des Kirchenasyls. Alle Interessierten sind eingeladen\, mit den Forschenden des ZFM über die Rahmenbedingungen einer funktionierenden Demokratie zu diskutieren und gemeinsam Ideen für ein gelingendes Miteinander in herausfordernden Zeiten zu entwickeln. \nDie Podiumsdiskussion findet im Rahmen der Wochen zur Demokratie statt. Weitere Informationen zur Veranstaltungsreihe folgen ab Oktober 2023.
URL:https://mensch-in-bewegung.info/event/umstrittene-migrationsgesellschaften-erinnerung-teilhabe-abwehr/
LOCATION:Büro für die Bürgerschaft der Katholischen Universität Eichstätt-Ingolstadt\, Markplatz 18\, Eichstätt\, 85072
CATEGORIES:Für Wissenschaft begeistern
ATTACH;FMTTYPE=image/png:https://mensch-in-bewegung.info/wp-content/uploads/2023/10/Graustufe-Raster-Geburtstagsposter1-e1696242767329.png
END:VEVENT
BEGIN:VEVENT
DTSTART;TZID=Europe/Berlin:20230925T170000
DTEND;TZID=Europe/Berlin:20230925T170000
DTSTAMP:20260421T124041
CREATED:20230925T125404Z
LAST-MODIFIED:20230925T130504Z
UID:10004540-1695661200-1695661200@mensch-in-bewegung.info
SUMMARY:Tischgespräch über (wilde) Tiere in der Stadt und ihre Betroffenheit durch den Klimawandel
DESCRIPTION:Das Büro für die Bürgerschaft der Katholischen Universität Eichstätt-Ingolstadt lädt ein zu einer Diskussionsveranstaltung mit dem Thema „(Wilde) Tiere in der Stadt – Wer sie sind und wie sie der Klimawandel betrifft„. Die Veranstaltung findet am Montag\, den 25. September 2023\, um 17 Uhr statt und bietet die Gelegenheit\, mehr über die Tierwelt in der Stadt Eichstätt zu erfahren und darüber\, wie sie sich an die Herausforderungen des Klimawandels anpasst. Ziel des Tischgesprächs ist\, dazu beizutragen\, die städtische Umgebung für Mensch und Tier nachhaltiger zu gestalten und den Klimawandel zu bekämpfen. \nInhalt der Veranstaltung: \n\nExpertenwissen: Expert*innen aus KU und Zivilgesellschaft in den Bereichen Biologie\, Ökologie und Umweltschutz werden Einblicke in die Artenvielfalt von Tieren in städtischen Gebieten geben und erzählen\, wie der Klimawandel diese beeinflusst.\nStädtische Tierarten: Erfahren Sie mehr über die erstaunlichen Tierarten\, die sich in unseren Städten angesiedelt haben\, von Vögeln und Säugetieren bis hin zu Insekten und Pflanzen.\nKlimawandel und Lebensraumverlust: Diskutieren Sie die Auswirkungen des Klimawandels auf die Lebensräume von Stadttieren und wie sich diese Anpassungen auf die Tierwelt und den Menschen auswirken.\nMaßnahmen und Lösungen: Lernen Sie von Fachleuten\, welche Maßnahmen ergriffen werden können\, um die Tierwelt in städtischen Gebieten zu schützen und den Klimawandel einzudämmen.\n\nDie Teilnahme am Tischgespräch ist kostenlos.
URL:https://mensch-in-bewegung.info/event/8339/
LOCATION:Büro für die Bürgerschaft der Katholischen Universität Eichstätt-Ingolstadt\, Markplatz 18\, Eichstätt\, 85072
CATEGORIES:Neue Ideen entwickeln,Transferraum Nachhaltigkeit,Zusammenarbeit gestalten
ATTACH;FMTTYPE=image/jpeg:https://mensch-in-bewegung.info/wp-content/uploads/2023/09/Screenshot-2023-09-25-145343.jpg
END:VEVENT
END:VCALENDAR