BEGIN:VCALENDAR
VERSION:2.0
PRODID:-//Mensch in Bewegung - ECPv6.15.20//NONSGML v1.0//EN
CALSCALE:GREGORIAN
METHOD:PUBLISH
X-WR-CALNAME:Mensch in Bewegung
X-ORIGINAL-URL:https://mensch-in-bewegung.info
X-WR-CALDESC:Veranstaltungen für Mensch in Bewegung
REFRESH-INTERVAL;VALUE=DURATION:PT1H
X-Robots-Tag:noindex
X-PUBLISHED-TTL:PT1H
BEGIN:VTIMEZONE
TZID:Europe/Berlin
BEGIN:DAYLIGHT
TZOFFSETFROM:+0100
TZOFFSETTO:+0200
TZNAME:CEST
DTSTART:20180325T010000
END:DAYLIGHT
BEGIN:STANDARD
TZOFFSETFROM:+0200
TZOFFSETTO:+0100
TZNAME:CET
DTSTART:20181028T010000
END:STANDARD
BEGIN:DAYLIGHT
TZOFFSETFROM:+0100
TZOFFSETTO:+0200
TZNAME:CEST
DTSTART:20190331T010000
END:DAYLIGHT
BEGIN:STANDARD
TZOFFSETFROM:+0200
TZOFFSETTO:+0100
TZNAME:CET
DTSTART:20191027T010000
END:STANDARD
BEGIN:DAYLIGHT
TZOFFSETFROM:+0100
TZOFFSETTO:+0200
TZNAME:CEST
DTSTART:20200329T010000
END:DAYLIGHT
BEGIN:STANDARD
TZOFFSETFROM:+0200
TZOFFSETTO:+0100
TZNAME:CET
DTSTART:20201025T010000
END:STANDARD
END:VTIMEZONE
BEGIN:VEVENT
DTSTART;TZID=Europe/Berlin:20190524T093000
DTEND;TZID=Europe/Berlin:20190524T123000
DTSTAMP:20260420T143242
CREATED:20190426T075925Z
LAST-MODIFIED:20190426T080047Z
UID:10004388-1558690200-1558701000@mensch-in-bewegung.info
SUMMARY:Workshop für Senioren - spielerisch programmieren lernen mit CALLIOPE
DESCRIPTION:Man ist nie zu alt\, um etwas Neues zu lernen – nach diesem Leitsatz wird im Mai ein Programmierworkshop für Senioren an der Technischen Hochschule Ingolstadt (THI) angeboten. Anhand des Mini-Computers „Calliope„ lernen die Teilnehmer an zwei Terminen die Grundlagen des Programmierens kennen\, welche sie im Anschluss auf spielerische Weise selbst anwenden können. \nDer Workshop findet am Freitag den 24 Mai von 9:30 bis 12:30 Uhr sowie am Montag den 27. Mai von 14:00 Uhr bis 16:30 Uhr statt. Der Workshop ist kostenfrei\, Anmeldung und Informationen unter 0841 – 305 2804 oder kidnetting@ingolstadt.de \nTreffpunkt ist am 24. Mai um 9:25 Uhr am Haupteingang der THI. \nDas Angebot ist eine Kooperation des Bürgerhauses mit der Technischen Hochschule im Rahmen der Initiative „Mensch in Bewegung„ und wird gefördert vom BMFSFJ in Kooperation mit der BAGSO.
URL:https://mensch-in-bewegung.info/event/workshop-fuer-senioren-spielerisch-programmieren-lernen-mit-calliope/
LOCATION:Technische Hochschule Ingolstadt\, Esplanade 10\, Ingolstadt\, 85049\, Deutschland
CATEGORIES:Digitale Transformation
ATTACH;FMTTYPE=image/png:https://mensch-in-bewegung.info/wp-content/uploads/2019/04/2019-calliope-workshop-flyer.png
END:VEVENT
BEGIN:VEVENT
DTSTART;TZID=Europe/Berlin:20190509T163500
DTEND;TZID=Europe/Berlin:20190509T180500
DTSTAMP:20260420T143242
CREATED:20190417T155649Z
LAST-MODIFIED:20190417T155906Z
UID:10004383-1557419700-1557425100@mensch-in-bewegung.info
SUMMARY:Öffentlicher Vortrag: Beyond New Work
DESCRIPTION:Das Center of Entrepreneurship der THI bietet im Sommersemester eine öffentliche Vorlesungsreihe „Zukunft der Unternehmen – Megatrends und digitale Transformation„\, zu der alle Interessierten herzlich eingeladen sind. Markus Neubauer\, Gründer und CEO der Silbury Deutschland GmbH sowie Sprecher der Fachgruppe Digitalisierung im Mittelstandsausschuss des Deutschen Industrie- und Handelskammertags (DIHK)\, referiert über New Work. Lassen Sie sich inspirieren und diskutieren Sie mit. \nDer Vortrag findet in Raum D214 von 16.35 Uhr bis 18.05 Uhr statt und ist kostenfrei. Eine Anmeldung ist nicht notwendig. Mehr zu weiteren Vorträgen der Vorlesungsreihe finden Sie hier.
URL:https://mensch-in-bewegung.info/event/beyond-new-work/
LOCATION:Technische Hochschule Ingolstadt\, Esplanade 10\, Ingolstadt\, 85049\, Deutschland
CATEGORIES:Digitale Transformation
ATTACH;FMTTYPE=image/jpeg:https://mensch-in-bewegung.info/wp-content/uploads/2019/04/Fotolia_178525901_M.jpg
END:VEVENT
BEGIN:VEVENT
DTSTART;TZID=Europe/Berlin:20190425T163500
DTEND;TZID=Europe/Berlin:20190425T180500
DTSTAMP:20260420T143242
CREATED:20190417T154523Z
LAST-MODIFIED:20190425T135724Z
UID:10004382-1556210100-1556215500@mensch-in-bewegung.info
SUMMARY:Öffentlicher Vortrag: Nachhaltigkeit - Megatrend oder "Blue Ocean"?
DESCRIPTION:Das Center of Entrepreneurship der THI bietet im Sommersemester eine öffentliche Vorlesungsreihe „Zukunft der Unternehmen – Megatrends und digitale Transformation„\, zu der alle Interessierten herzlich eingeladen sind. Den Auftakt der Reihe macht Dr. Rüdiger Fox\, CEO der Sympatex Technologies GmbH\, mit dem Thema „Nachhaltigkeit – Megatrend oder „Blue Ocean„„? Lassen Sie sich inspirieren und diskutieren Sie mit. \nDer Vortrag findet in Raum D214 von 16.35 Uhr bis 18.05 Uhr statt und ist kostenfrei. Eine Anmeldung ist nicht notwendig. Mehr zu weiteren Vorträgen der Vorlesungsreihe finden Sie hier.
URL:https://mensch-in-bewegung.info/event/oeffentlicher-vortrag-nachhaltigkeit-megatrend-oder-blue-ocean/
LOCATION:Technische Hochschule Ingolstadt\, Esplanade 10\, Ingolstadt\, 85049\, Deutschland
CATEGORIES:Nachhaltige Entwicklung
ATTACH;FMTTYPE=image/jpeg:https://mensch-in-bewegung.info/wp-content/uploads/2019/04/Fotolia_59497585_L.jpg
END:VEVENT
END:VCALENDAR